BEGIN:VCALENDAR
VERSION:2.0
METHOD:PUBLISH
PRODID:-//tages.guru//DE
BEGIN:VEVENT
CREATED:2026-04-20T05:42:25.0622531+02:00
LAST-MODIFIED:2026-04-20T05:42:25.0622572+02:00
DTSTAMP:2026-04-20T05:42:25.0622579+02:00
SUMMARY:Tag des Hundekuchens
LOCATION:
DTSTART;VALUE=DATE:20340223
DTEND;VALUE=DATE:20340224
URL:http://tages.guru/?name=Tag-des-Hundekuchens&year=2034&page=%2FDays%2FCountDownByName
DESCRIPTION:http://tages.guru/?name=Tag-des-Hundekuchens&year=2034&page=%2FDays%2FCountDownByName
TRANSP:TRANSPARENT
UID:Tag-des-Hundekuchens@tages.guru
END:VEVENT
END:VCALENDAR