BEGIN:VCALENDAR
VERSION:2.0
METHOD:PUBLISH
PRODID:-//tages.guru//DE
BEGIN:VEVENT
CREATED:2026-04-20T02:46:17.4047365+02:00
LAST-MODIFIED:2026-04-20T02:46:17.4047396+02:00
DTSTAMP:2026-04-20T02:46:17.4047403+02:00
SUMMARY:Tag des Hundekuchens
LOCATION:
DTSTART;VALUE=DATE:20330223
DTEND;VALUE=DATE:20330224
URL:http://tages.guru/?name=Tag-des-Hundekuchens&year=2033&page=%2FDays%2FCountDownByName
DESCRIPTION:http://tages.guru/?name=Tag-des-Hundekuchens&year=2033&page=%2FDays%2FCountDownByName
TRANSP:TRANSPARENT
UID:Tag-des-Hundekuchens@tages.guru
END:VEVENT
END:VCALENDAR