BEGIN:VCALENDAR
VERSION:2.0
METHOD:PUBLISH
PRODID:-//tages.guru//DE
BEGIN:VEVENT
CREATED:2026-04-19T21:27:38.9029354+02:00
LAST-MODIFIED:2026-04-19T21:27:38.9029390+02:00
DTSTAMP:2026-04-19T21:27:38.9029397+02:00
SUMMARY:Tag des Hundekuchens
LOCATION:
DTSTART;VALUE=DATE:20310223
DTEND;VALUE=DATE:20310224
URL:http://tages.guru/?name=Tag-des-Hundekuchens&year=2031&page=%2FDays%2FCountDownByName
DESCRIPTION:http://tages.guru/?name=Tag-des-Hundekuchens&year=2031&page=%2FDays%2FCountDownByName
TRANSP:TRANSPARENT
UID:Tag-des-Hundekuchens@tages.guru
END:VEVENT
END:VCALENDAR