BEGIN:VCALENDAR
VERSION:2.0
METHOD:PUBLISH
PRODID:-//tages.guru//DE
BEGIN:VEVENT
CREATED:2026-04-22T10:52:53.4353692+02:00
LAST-MODIFIED:2026-04-22T10:52:53.4353734+02:00
DTSTAMP:2026-04-22T10:52:53.4353741+02:00
SUMMARY:Tag des Chilis
LOCATION:
DTSTART;VALUE=DATE:20330226
DTEND;VALUE=DATE:20330227
URL:http://tages.guru/?name=Tag-des-Chilis&year=2033&page=%2FDays%2FCountDownByName
DESCRIPTION:http://tages.guru/?name=Tag-des-Chilis&year=2033&page=%2FDays%2FCountDownByName
TRANSP:TRANSPARENT
UID:Tag-des-Chilis@tages.guru
END:VEVENT
END:VCALENDAR