BEGIN:VCALENDAR
VERSION:2.0
METHOD:PUBLISH
PRODID:-//tages.guru//DE
BEGIN:VEVENT
CREATED:2026-04-22T15:18:16.7075127+02:00
LAST-MODIFIED:2026-04-22T15:18:16.7075167+02:00
DTSTAMP:2026-04-22T15:18:16.7075173+02:00
SUMMARY:Tag der polnisch-ungarischen Freundschaft
LOCATION:
DTSTART;VALUE=DATE:20280323
DTEND;VALUE=DATE:20280324
URL:http://tages.guru/?name=Tag-der-polnisch-ungarischen-Freundschaft&year=2028&page=%2FDays%2FCountDownByName
DESCRIPTION:http://tages.guru/?name=Tag-der-polnisch-ungarischen-Freundschaft&year=2028&page=%2FDays%2FCountDownByName
TRANSP:TRANSPARENT
UID:Tag-der-polnisch-ungarischen-Freundschaft@tages.guru
END:VEVENT
END:VCALENDAR