BEGIN:VCALENDAR
VERSION:2.0
METHOD:PUBLISH
PRODID:-//tages.guru//DE
BEGIN:VEVENT
CREATED:2026-04-19T17:06:06.9593644+02:00
LAST-MODIFIED:2026-04-19T17:06:06.9593686+02:00
DTSTAMP:2026-04-19T17:06:06.9593693+02:00
SUMMARY:Tag der lahmen Ente
LOCATION:
DTSTART;VALUE=DATE:20330206
DTEND;VALUE=DATE:20330207
URL:http://tages.guru/?name=Tag-der-lahmen-Ente&year=2033&page=%2FDays%2FCountDownByName
DESCRIPTION:http://tages.guru/?name=Tag-der-lahmen-Ente&year=2033&page=%2FDays%2FCountDownByName
TRANSP:TRANSPARENT
UID:Tag-der-lahmen-Ente@tages.guru
END:VEVENT
END:VCALENDAR