BEGIN:VCALENDAR
VERSION:2.0
METHOD:PUBLISH
PRODID:-//tages.guru//DE
BEGIN:VEVENT
CREATED:2026-04-20T02:26:22.5445680+02:00
LAST-MODIFIED:2026-04-20T02:26:22.5445711+02:00
DTSTAMP:2026-04-20T02:26:22.5445723+02:00
SUMMARY:Tag der dunklen Materie
LOCATION:international
DTSTART;VALUE=DATE:20291031
DTEND;VALUE=DATE:20291101
URL:http://tages.guru/?name=Tag-der-dunklen-Materie&year=2029&page=%2FDays%2FCountDownByName
DESCRIPTION:http://tages.guru/?name=Tag-der-dunklen-Materie&year=2029&page=%2FDays%2FCountDownByName
TRANSP:TRANSPARENT
UID:Tag-der-dunklen-Materie@tages.guru
END:VEVENT
END:VCALENDAR