BEGIN:VCALENDAR
VERSION:2.0
METHOD:PUBLISH
PRODID:-//tages.guru//DE
BEGIN:VEVENT
CREATED:2026-04-24T21:36:14.8507614+02:00
LAST-MODIFIED:2026-04-24T21:36:14.8507645+02:00
DTSTAMP:2026-04-24T21:36:14.8507652+02:00
SUMMARY:Tag der Zahnschmerzen
LOCATION:
DTSTART;VALUE=DATE:20270209
DTEND;VALUE=DATE:20270210
URL:http://tages.guru/?name=Tag-der-Zahnschmerzen&year=2027&page=%2FDays%2FCountDownByName
DESCRIPTION:http://tages.guru/?name=Tag-der-Zahnschmerzen&year=2027&page=%2FDays%2FCountDownByName
TRANSP:TRANSPARENT
UID:Tag-der-Zahnschmerzen@tages.guru
END:VEVENT
END:VCALENDAR