BEGIN:VCALENDAR
VERSION:2.0
METHOD:PUBLISH
PRODID:-//tages.guru//DE
BEGIN:VEVENT
CREATED:2026-04-22T04:09:11.9195179+02:00
LAST-MODIFIED:2026-04-22T04:09:11.9195222+02:00
DTSTAMP:2026-04-22T04:09:11.9195230+02:00
SUMMARY:Tag der Welpen
LOCATION:
DTSTART;VALUE=DATE:20280323
DTEND;VALUE=DATE:20280324
URL:http://tages.guru/?name=Tag-der-Welpen&year=2028&page=%2FDays%2FCountDownByName
DESCRIPTION:http://tages.guru/?name=Tag-der-Welpen&year=2028&page=%2FDays%2FCountDownByName
TRANSP:TRANSPARENT
UID:Tag-der-Welpen@tages.guru
END:VEVENT
END:VCALENDAR