BEGIN:VCALENDAR
VERSION:2.0
METHOD:PUBLISH
PRODID:-//tages.guru//DE
BEGIN:VEVENT
CREATED:2026-04-25T23:17:50.9697057+02:00
LAST-MODIFIED:2026-04-25T23:17:50.9697093+02:00
DTSTAMP:2026-04-25T23:17:50.9697101+02:00
SUMMARY:Tag der Vermessung und Geoinformation
LOCATION:
DTSTART;VALUE=DATE:20270305
DTEND;VALUE=DATE:20270306
URL:http://tages.guru/?name=Tag-der-Vermessung-und-Geoinformation&year=2027&page=%2FDays%2FCountDownByName
DESCRIPTION:http://tages.guru/?name=Tag-der-Vermessung-und-Geoinformation&year=2027&page=%2FDays%2FCountDownByName
TRANSP:TRANSPARENT
UID:Tag-der-Vermessung-und-Geoinformation@tages.guru
END:VEVENT
END:VCALENDAR