BEGIN:VCALENDAR
VERSION:2.0
METHOD:PUBLISH
PRODID:-//tages.guru//DE
BEGIN:VEVENT
CREATED:2026-04-22T09:04:44.9531227+02:00
LAST-MODIFIED:2026-04-22T09:04:44.9531256+02:00
DTSTAMP:2026-04-22T09:04:44.9531263+02:00
SUMMARY:Tag der Tuba
LOCATION:
DTSTART;VALUE=DATE:20270507
DTEND;VALUE=DATE:20270508
URL:http://tages.guru/?name=Tag-der-Tuba&year=2027&page=%2FDays%2FCountDownByName
DESCRIPTION:http://tages.guru/?name=Tag-der-Tuba&year=2027&page=%2FDays%2FCountDownByName
TRANSP:TRANSPARENT
UID:Tag-der-Tuba@tages.guru
END:VEVENT
END:VCALENDAR