BEGIN:VCALENDAR
VERSION:2.0
METHOD:PUBLISH
PRODID:-//tages.guru//DE
BEGIN:VEVENT
CREATED:2026-04-24T23:53:27.8741738+02:00
LAST-MODIFIED:2026-04-24T23:53:27.8741779+02:00
DTSTAMP:2026-04-24T23:53:27.8741787+02:00
SUMMARY:Tag der Tiefkühlkost
LOCATION:
DTSTART;VALUE=DATE:20330306
DTEND;VALUE=DATE:20330307
URL:http://tages.guru/?name=Tag-der-Tiefkuehlkost&year=2033&page=%2FDays%2FCountDownByName
DESCRIPTION:http://tages.guru/?name=Tag-der-Tiefkuehlkost&year=2033&page=%2FDays%2FCountDownByName
TRANSP:TRANSPARENT
UID:Tag-der-Tiefkuehlkost@tages.guru
END:VEVENT
END:VCALENDAR