BEGIN:VCALENDAR
VERSION:2.0
METHOD:PUBLISH
PRODID:-//tages.guru//DE
BEGIN:VEVENT
CREATED:2026-04-25T19:29:54.7821783+02:00
LAST-MODIFIED:2026-04-25T19:29:54.7821812+02:00
DTSTAMP:2026-04-25T19:29:54.7821819+02:00
SUMMARY:Tag der Sonnencreme
LOCATION:Amerika
DTSTART;VALUE=DATE:20330527
DTEND;VALUE=DATE:20330528
URL:http://tages.guru/?name=Tag-der-Sonnencreme&year=2033&page=%2FDays%2FCountDownByName
DESCRIPTION:http://tages.guru/?name=Tag-der-Sonnencreme&year=2033&page=%2FDays%2FCountDownByName
TRANSP:TRANSPARENT
UID:Tag-der-Sonnencreme@tages.guru
END:VEVENT
END:VCALENDAR