BEGIN:VCALENDAR
VERSION:2.0
METHOD:PUBLISH
PRODID:-//tages.guru//DE
BEGIN:VEVENT
CREATED:2026-04-22T16:52:07.3015382+02:00
LAST-MODIFIED:2026-04-22T16:52:07.3015417+02:00
DTSTAMP:2026-04-22T16:52:07.3015423+02:00
SUMMARY:Tag der Schwertschlucker
LOCATION:
DTSTART;VALUE=DATE:20340224
DTEND;VALUE=DATE:20340225
URL:http://tages.guru/?name=Tag-der-Schwertschlucker&year=2034&page=%2FDays%2FCountDownByName
DESCRIPTION:http://tages.guru/?name=Tag-der-Schwertschlucker&year=2034&page=%2FDays%2FCountDownByName
TRANSP:TRANSPARENT
UID:Tag-der-Schwertschlucker@tages.guru
END:VEVENT
END:VCALENDAR