BEGIN:VCALENDAR
VERSION:2.0
METHOD:PUBLISH
PRODID:-//tages.guru//DE
BEGIN:VEVENT
CREATED:2026-04-20T07:01:58.5658965+02:00
LAST-MODIFIED:2026-04-20T07:01:58.5659004+02:00
DTSTAMP:2026-04-20T07:01:58.5659012+02:00
SUMMARY:Tag der Schwertschlucker
LOCATION:
DTSTART;VALUE=DATE:20330224
DTEND;VALUE=DATE:20330225
URL:http://tages.guru/?name=Tag-der-Schwertschlucker&year=2033&page=%2FDays%2FCountDownByName
DESCRIPTION:http://tages.guru/?name=Tag-der-Schwertschlucker&year=2033&page=%2FDays%2FCountDownByName
TRANSP:TRANSPARENT
UID:Tag-der-Schwertschlucker@tages.guru
END:VEVENT
END:VCALENDAR