BEGIN:VCALENDAR
VERSION:2.0
METHOD:PUBLISH
PRODID:-//tages.guru//DE
BEGIN:VEVENT
CREATED:2026-04-25T21:44:06.8497954+02:00
LAST-MODIFIED:2026-04-25T21:44:06.8497987+02:00
DTSTAMP:2026-04-25T21:44:06.8497995+02:00
SUMMARY:Tag der Patientensicherheit
LOCATION:International
DTSTART;VALUE=DATE:20330917
DTEND;VALUE=DATE:20330918
URL:http://tages.guru/?name=Tag-der-Patientensicherheit&year=2033&page=%2FDays%2FCountDownByName
DESCRIPTION:http://tages.guru/?name=Tag-der-Patientensicherheit&year=2033&page=%2FDays%2FCountDownByName
TRANSP:TRANSPARENT
UID:Tag-der-Patientensicherheit@tages.guru
END:VEVENT
END:VCALENDAR