BEGIN:VCALENDAR
VERSION:2.0
METHOD:PUBLISH
PRODID:-//tages.guru//DE
BEGIN:VEVENT
CREATED:2026-04-22T13:18:05.0295352+02:00
LAST-MODIFIED:2026-04-22T13:18:05.0295382+02:00
DTSTAMP:2026-04-22T13:18:05.0295389+02:00
SUMMARY:Tag der Nachbarschaft
LOCATION:Europa
DTSTART;VALUE=DATE:20280525
DTEND;VALUE=DATE:20280526
URL:http://tages.guru/?name=Tag-der-Nachbarschaft&year=2028&page=%2FDays%2FCountDownByName
DESCRIPTION:http://tages.guru/?name=Tag-der-Nachbarschaft&year=2028&page=%2FDays%2FCountDownByName
TRANSP:TRANSPARENT
UID:Tag-der-Nachbarschaft@tages.guru
END:VEVENT
END:VCALENDAR