BEGIN:VCALENDAR
VERSION:2.0
METHOD:PUBLISH
PRODID:-//tages.guru//DE
BEGIN:VEVENT
CREATED:2026-04-19T20:14:53.9802862+02:00
LAST-MODIFIED:2026-04-19T20:14:53.9802895+02:00
DTSTAMP:2026-04-19T20:14:53.9802903+02:00
SUMMARY:Tag der Kinderhospizarbeit
LOCATION:
DTSTART;VALUE=DATE:20330210
DTEND;VALUE=DATE:20330211
URL:http://tages.guru/?name=Tag-der-Kinderhospizarbeit&year=2033&page=%2FDays%2FCountDownByName
DESCRIPTION:http://tages.guru/?name=Tag-der-Kinderhospizarbeit&year=2033&page=%2FDays%2FCountDownByName
TRANSP:TRANSPARENT
UID:Tag-der-Kinderhospizarbeit@tages.guru
END:VEVENT
END:VCALENDAR