BEGIN:VCALENDAR
VERSION:2.0
METHOD:PUBLISH
PRODID:-//tages.guru//DE
BEGIN:VEVENT
CREATED:2026-04-20T20:40:07.8537501+02:00
LAST-MODIFIED:2026-04-20T20:40:07.8537536+02:00
DTSTAMP:2026-04-20T20:40:07.8537543+02:00
SUMMARY:Tag der Katastrophenvorbeugung
LOCATION:International
DTSTART;VALUE=DATE:20261013
DTEND;VALUE=DATE:20261014
URL:http://tages.guru/?name=Tag-der-Katastrophenvorbeugung&year=2026&page=%2FDays%2FCountDownByName
DESCRIPTION:http://tages.guru/?name=Tag-der-Katastrophenvorbeugung&year=2026&page=%2FDays%2FCountDownByName
TRANSP:TRANSPARENT
UID:Tag-der-Katastrophenvorbeugung@tages.guru
END:VEVENT
END:VCALENDAR