BEGIN:VCALENDAR
VERSION:2.0
METHOD:PUBLISH
PRODID:-//tages.guru//DE
BEGIN:VEVENT
CREATED:2026-04-25T16:59:12.8162292+02:00
LAST-MODIFIED:2026-04-25T16:59:12.8162324+02:00
DTSTAMP:2026-04-25T16:59:12.8162331+02:00
SUMMARY:Tag der Hausmusik
LOCATION:International
DTSTART;VALUE=DATE:20311122
DTEND;VALUE=DATE:20311123
URL:http://tages.guru/?name=Tag-der-Hausmusik&year=2031&page=%2FDays%2FCountDownByName
DESCRIPTION:http://tages.guru/?name=Tag-der-Hausmusik&year=2031&page=%2FDays%2FCountDownByName
TRANSP:TRANSPARENT
UID:Tag-der-Hausmusik@tages.guru
END:VEVENT
END:VCALENDAR