BEGIN:VCALENDAR
VERSION:2.0
METHOD:PUBLISH
PRODID:-//tages.guru//DE
BEGIN:VEVENT
CREATED:2026-04-22T15:09:10.0966970+02:00
LAST-MODIFIED:2026-04-22T15:09:10.0967047+02:00
DTSTAMP:2026-04-22T15:09:10.0967054+02:00
SUMMARY:Tag der Hämophilie
LOCATION:
DTSTART;VALUE=DATE:20320417
DTEND;VALUE=DATE:20320418
URL:http://tages.guru/?name=Tag-der-Haemophilie&year=2032&page=%2FDays%2FCountDownByName
DESCRIPTION:http://tages.guru/?name=Tag-der-Haemophilie&year=2032&page=%2FDays%2FCountDownByName
TRANSP:TRANSPARENT
UID:Tag-der-Haemophilie@tages.guru
END:VEVENT
END:VCALENDAR