BEGIN:VCALENDAR
VERSION:2.0
METHOD:PUBLISH
PRODID:-//tages.guru//DE
BEGIN:VEVENT
CREATED:2026-04-22T18:56:12.1787388+02:00
LAST-MODIFIED:2026-04-22T18:56:12.1787428+02:00
DTSTAMP:2026-04-22T18:56:12.1787435+02:00
SUMMARY:Tag der Einfachheit
LOCATION:
DTSTART;VALUE=DATE:20320712
DTEND;VALUE=DATE:20320713
URL:http://tages.guru/?name=Tag-der-Einfachheit&year=2032&page=%2FDays%2FCountDownByName
DESCRIPTION:http://tages.guru/?name=Tag-der-Einfachheit&year=2032&page=%2FDays%2FCountDownByName
TRANSP:TRANSPARENT
UID:Tag-der-Einfachheit@tages.guru
END:VEVENT
END:VCALENDAR