BEGIN:VCALENDAR
VERSION:2.0
METHOD:PUBLISH
PRODID:-//tages.guru//DE
BEGIN:VEVENT
CREATED:2026-04-25T18:34:27.0716562+02:00
LAST-MODIFIED:2026-04-25T18:34:27.0716591+02:00
DTSTAMP:2026-04-25T18:34:27.0716599+02:00
SUMMARY:Tag der Einfachheit
LOCATION:
DTSTART;VALUE=DATE:20300712
DTEND;VALUE=DATE:20300713
URL:http://tages.guru/?name=Tag-der-Einfachheit&year=2030&page=%2FDays%2FCountDownByName
DESCRIPTION:http://tages.guru/?name=Tag-der-Einfachheit&year=2030&page=%2FDays%2FCountDownByName
TRANSP:TRANSPARENT
UID:Tag-der-Einfachheit@tages.guru
END:VEVENT
END:VCALENDAR