BEGIN:VCALENDAR
VERSION:2.0
METHOD:PUBLISH
PRODID:-//tages.guru//DE
BEGIN:VEVENT
CREATED:2026-04-24T00:33:36.8241818+02:00
LAST-MODIFIED:2026-04-24T00:33:36.8241860+02:00
DTSTAMP:2026-04-24T00:33:36.8241867+02:00
SUMMARY:Tag der Einfachheit
LOCATION:
DTSTART;VALUE=DATE:20290712
DTEND;VALUE=DATE:20290713
URL:http://tages.guru/?name=Tag-der-Einfachheit&year=2029&page=%2FDays%2FCountDownByName
DESCRIPTION:http://tages.guru/?name=Tag-der-Einfachheit&year=2029&page=%2FDays%2FCountDownByName
TRANSP:TRANSPARENT
UID:Tag-der-Einfachheit@tages.guru
END:VEVENT
END:VCALENDAR