BEGIN:VCALENDAR
VERSION:2.0
METHOD:PUBLISH
PRODID:-//tages.guru//DE
BEGIN:VEVENT
CREATED:2026-04-23T05:25:07.2715169+02:00
LAST-MODIFIED:2026-04-23T05:25:07.2715209+02:00
DTSTAMP:2026-04-23T05:25:07.2715217+02:00
SUMMARY:Tag der Einfachheit
LOCATION:
DTSTART;VALUE=DATE:20280712
DTEND;VALUE=DATE:20280713
URL:http://tages.guru/?name=Tag-der-Einfachheit&year=2028&page=%2FDays%2FCountDownByName
DESCRIPTION:http://tages.guru/?name=Tag-der-Einfachheit&year=2028&page=%2FDays%2FCountDownByName
TRANSP:TRANSPARENT
UID:Tag-der-Einfachheit@tages.guru
END:VEVENT
END:VCALENDAR