BEGIN:VCALENDAR
VERSION:2.0
METHOD:PUBLISH
PRODID:-//tages.guru//DE
BEGIN:VEVENT
CREATED:2026-04-26T00:19:13.3157553+02:00
LAST-MODIFIED:2026-04-26T00:19:13.3157582+02:00
DTSTAMP:2026-04-26T00:19:13.3157589+02:00
SUMMARY:Tag der Einfachheit
LOCATION:
DTSTART;VALUE=DATE:20260712
DTEND;VALUE=DATE:20260713
URL:http://tages.guru/?name=Tag-der-Einfachheit&year=2026&page=%2FDays%2FCountDownByName
DESCRIPTION:http://tages.guru/?name=Tag-der-Einfachheit&year=2026&page=%2FDays%2FCountDownByName
TRANSP:TRANSPARENT
UID:Tag-der-Einfachheit@tages.guru
END:VEVENT
END:VCALENDAR