BEGIN:VCALENDAR
VERSION:2.0
METHOD:PUBLISH
PRODID:-//tages.guru//DE
BEGIN:VEVENT
CREATED:2026-04-22T14:51:39.9427893+02:00
LAST-MODIFIED:2026-04-22T14:51:39.9427925+02:00
DTSTAMP:2026-04-22T14:51:39.9427933+02:00
SUMMARY:Tag der Befreiung
LOCATION:international
DTSTART;VALUE=DATE:20270508
DTEND;VALUE=DATE:20270509
URL:http://tages.guru/?name=Tag-der-Befreiung&year=2027&page=%2FDays%2FCountDownByName
DESCRIPTION:http://tages.guru/?name=Tag-der-Befreiung&year=2027&page=%2FDays%2FCountDownByName
TRANSP:TRANSPARENT
UID:Tag-der-Befreiung@tages.guru
END:VEVENT
END:VCALENDAR