BEGIN:VCALENDAR
VERSION:2.0
METHOD:PUBLISH
PRODID:-//tages.guru//DE
BEGIN:VEVENT
CREATED:2026-04-23T09:31:14.4306835+02:00
LAST-MODIFIED:2026-04-23T09:31:14.4306879+02:00
DTSTAMP:2026-04-23T09:31:14.4306889+02:00
SUMMARY:Schweizer Mühlentag
LOCATION:Schweiz
DTSTART;VALUE=DATE:20330528
DTEND;VALUE=DATE:20330529
URL:http://tages.guru/?name=Schweizer-Muehlentag&year=2033&page=%2FDays%2FCountDownByName
DESCRIPTION:http://tages.guru/?name=Schweizer-Muehlentag&year=2033&page=%2FDays%2FCountDownByName
TRANSP:TRANSPARENT
UID:Schweizer-Muehlentag@tages.guru
END:VEVENT
END:VCALENDAR