BEGIN:VCALENDAR
VERSION:2.0
METHOD:PUBLISH
PRODID:-//tages.guru//DE
BEGIN:VEVENT
CREATED:2026-04-19T17:48:15.2771367+02:00
LAST-MODIFIED:2026-04-19T17:48:15.2771403+02:00
DTSTAMP:2026-04-19T17:48:15.2771409+02:00
SUMMARY:Safer Internet Day
LOCATION:International
DTSTART;VALUE=DATE:20310211
DTEND;VALUE=DATE:20310212
URL:http://tages.guru/?name=Safer-Internet-Day&year=2031&page=%2FDays%2FCountDownByName
DESCRIPTION:http://tages.guru/?name=Safer-Internet-Day&year=2031&page=%2FDays%2FCountDownByName
TRANSP:TRANSPARENT
UID:Safer-Internet-Day@tages.guru
END:VEVENT
END:VCALENDAR