BEGIN:VCALENDAR
VERSION:2.0
METHOD:PUBLISH
PRODID:-//tages.guru//DE
BEGIN:VEVENT
CREATED:2026-04-19T14:58:11.0784171+02:00
LAST-MODIFIED:2026-04-19T14:58:11.0784206+02:00
DTSTAMP:2026-04-19T14:58:11.0784213+02:00
SUMMARY:Robinson-Crusoe-Tag
LOCATION:
DTSTART;VALUE=DATE:20280201
DTEND;VALUE=DATE:20280202
URL:http://tages.guru/?name=Robinson-Crusoe-Tag&year=2028&page=%2FDays%2FCountDownByName
DESCRIPTION:http://tages.guru/?name=Robinson-Crusoe-Tag&year=2028&page=%2FDays%2FCountDownByName
TRANSP:TRANSPARENT
UID:Robinson-Crusoe-Tag@tages.guru
END:VEVENT
END:VCALENDAR