BEGIN:VCALENDAR
VERSION:2.0
METHOD:PUBLISH
PRODID:-//tages.guru//DE
BEGIN:VEVENT
CREATED:2026-04-20T04:06:12.5877765+02:00
LAST-MODIFIED:2026-04-20T04:06:12.5877806+02:00
DTSTAMP:2026-04-20T04:06:12.5877814+02:00
SUMMARY:Reformationstag
LOCATION:evangelisch
DTSTART;VALUE=DATE:20291031
DTEND;VALUE=DATE:20291101
URL:http://tages.guru/?name=Reformationstag&year=2029&page=%2FDays%2FCountDownByName
DESCRIPTION:http://tages.guru/?name=Reformationstag&year=2029&page=%2FDays%2FCountDownByName
TRANSP:TRANSPARENT
UID:Reformationstag@tages.guru
END:VEVENT
END:VCALENDAR