BEGIN:VCALENDAR
VERSION:2.0
METHOD:PUBLISH
PRODID:-//tages.guru//DE
BEGIN:VEVENT
CREATED:2026-04-22T12:10:57.2494468+02:00
LAST-MODIFIED:2026-04-22T12:10:57.2494507+02:00
DTSTAMP:2026-04-22T12:10:57.2494516+02:00
SUMMARY:Reformationstag
LOCATION:evangelisch
DTSTART;VALUE=DATE:20281031
DTEND;VALUE=DATE:20281101
URL:http://tages.guru/?name=Reformationstag&year=2028&page=%2FDays%2FCountDownByName
DESCRIPTION:http://tages.guru/?name=Reformationstag&year=2028&page=%2FDays%2FCountDownByName
TRANSP:TRANSPARENT
UID:Reformationstag@tages.guru
END:VEVENT
END:VCALENDAR