BEGIN:VCALENDAR
VERSION:2.0
METHOD:PUBLISH
PRODID:-//tages.guru//DE
BEGIN:VEVENT
CREATED:2026-04-20T09:39:38.3274286+02:00
LAST-MODIFIED:2026-04-20T09:39:38.3274326+02:00
DTSTAMP:2026-04-20T09:39:38.3274334+02:00
SUMMARY:Record Store Day
LOCATION:International
DTSTART;VALUE=DATE:20340415
DTEND;VALUE=DATE:20340416
URL:http://tages.guru/?name=Record-Store-Day&year=2034&page=%2FDays%2FCountDownByName
DESCRIPTION:http://tages.guru/?name=Record-Store-Day&year=2034&page=%2FDays%2FCountDownByName
TRANSP:TRANSPARENT
UID:Record-Store-Day@tages.guru
END:VEVENT
END:VCALENDAR