BEGIN:VCALENDAR
VERSION:2.0
METHOD:PUBLISH
PRODID:-//tages.guru//DE
BEGIN:VEVENT
CREATED:2026-04-20T08:11:58.0746860+02:00
LAST-MODIFIED:2026-04-20T08:11:58.0746902+02:00
DTSTAMP:2026-04-20T08:11:58.0746909+02:00
SUMMARY:Record Store Day
LOCATION:International
DTSTART;VALUE=DATE:20330416
DTEND;VALUE=DATE:20330417
URL:http://tages.guru/?name=Record-Store-Day&year=2033&page=%2FDays%2FCountDownByName
DESCRIPTION:http://tages.guru/?name=Record-Store-Day&year=2033&page=%2FDays%2FCountDownByName
TRANSP:TRANSPARENT
UID:Record-Store-Day@tages.guru
END:VEVENT
END:VCALENDAR