BEGIN:VCALENDAR
VERSION:2.0
METHOD:PUBLISH
PRODID:-//tages.guru//DE
BEGIN:VEVENT
CREATED:2026-04-20T04:07:28.5855501+02:00
LAST-MODIFIED:2026-04-20T04:07:28.5855539+02:00
DTSTAMP:2026-04-20T04:07:28.5855547+02:00
SUMMARY:Ostersonntag
LOCATION:christlich
DTSTART;VALUE=DATE:20330417
DTEND;VALUE=DATE:20330418
URL:http://tages.guru/?name=Ostersonntag&year=2033&page=%2FDays%2FCountDownByName
DESCRIPTION:http://tages.guru/?name=Ostersonntag&year=2033&page=%2FDays%2FCountDownByName
TRANSP:TRANSPARENT
UID:Ostersonntag@tages.guru
END:VEVENT
END:VCALENDAR