BEGIN:VCALENDAR
VERSION:2.0
METHOD:PUBLISH
PRODID:-//tages.guru//DE
BEGIN:VEVENT
CREATED:2026-04-19T22:55:32.2375333+02:00
LAST-MODIFIED:2026-04-19T22:55:32.2375364+02:00
DTSTAMP:2026-04-19T22:55:32.2375374+02:00
SUMMARY:Ostersamstag
LOCATION:christlich
DTSTART;VALUE=DATE:20340408
DTEND;VALUE=DATE:20340409
URL:http://tages.guru/?name=Ostersamstag&year=2034&page=%2FDays%2FCountDownByName
DESCRIPTION:http://tages.guru/?name=Ostersamstag&year=2034&page=%2FDays%2FCountDownByName
TRANSP:TRANSPARENT
UID:Ostersamstag@tages.guru
END:VEVENT
END:VCALENDAR