BEGIN:VCALENDAR
VERSION:2.0
METHOD:PUBLISH
PRODID:-//tages.guru//DE
BEGIN:VEVENT
CREATED:2026-04-20T02:26:39.0827673+02:00
LAST-MODIFIED:2026-04-20T02:26:39.0827706+02:00
DTSTAMP:2026-04-20T02:26:39.0827714+02:00
SUMMARY:Ostersamstag
LOCATION:christlich
DTSTART;VALUE=DATE:20330416
DTEND;VALUE=DATE:20330417
URL:http://tages.guru/?name=Ostersamstag&year=2033&page=%2FDays%2FCountDownByName
DESCRIPTION:http://tages.guru/?name=Ostersamstag&year=2033&page=%2FDays%2FCountDownByName
TRANSP:TRANSPARENT
UID:Ostersamstag@tages.guru
END:VEVENT
END:VCALENDAR