BEGIN:VCALENDAR
VERSION:2.0
METHOD:PUBLISH
PRODID:-//tages.guru//DE
BEGIN:VEVENT
CREATED:2026-04-23T07:20:45.2714107+02:00
LAST-MODIFIED:2026-04-23T07:20:45.2714136+02:00
DTSTAMP:2026-04-23T07:20:45.2714143+02:00
SUMMARY:Nationaler Tag des Vogels
LOCATION:Thementag
DTSTART;VALUE=DATE:20330105
DTEND;VALUE=DATE:20330106
URL:http://tages.guru/?name=Nationaler-Tag-des-Vogels&year=2033&page=%2FDays%2FCountDownByName
DESCRIPTION:http://tages.guru/?name=Nationaler-Tag-des-Vogels&year=2033&page=%2FDays%2FCountDownByName
TRANSP:TRANSPARENT
UID:Nationaler-Tag-des-Vogels@tages.guru
END:VEVENT
END:VCALENDAR