BEGIN:VCALENDAR
VERSION:2.0
METHOD:PUBLISH
PRODID:-//tages.guru//DE
BEGIN:VEVENT
CREATED:2026-04-25T17:32:11.8469610+02:00
LAST-MODIFIED:2026-04-25T17:32:11.8469661+02:00
DTSTAMP:2026-04-25T17:32:11.8469669+02:00
SUMMARY:Kath. Weltfriedenstag
LOCATION:römisch-katholisch
DTSTART;VALUE=DATE:20270101
DTEND;VALUE=DATE:20270102
URL:http://tages.guru/?name=Kath-Weltfriedenstag&year=2027&page=%2FDays%2FCountDownByName
DESCRIPTION:http://tages.guru/?name=Kath-Weltfriedenstag&year=2027&page=%2FDays%2FCountDownByName
TRANSP:TRANSPARENT
UID:Kath-Weltfriedenstag@tages.guru
END:VEVENT
END:VCALENDAR