BEGIN:VCALENDAR
VERSION:2.0
METHOD:PUBLISH
PRODID:-//tages.guru//DE
BEGIN:VEVENT
CREATED:2026-04-19T14:17:10.1295433+02:00
LAST-MODIFIED:2026-04-19T14:17:10.1295485+02:00
DTSTAMP:2026-04-19T14:17:10.1295499+02:00
SUMMARY:Joseftag
LOCATION:christlich
DTSTART;VALUE=DATE:20270319
DTEND;VALUE=DATE:20270320
URL:http://tages.guru/?name=Joseftag&year=2027&page=%2FDays%2FCountDownByName
DESCRIPTION:http://tages.guru/?name=Joseftag&year=2027&page=%2FDays%2FCountDownByName
TRANSP:TRANSPARENT
UID:Joseftag@tages.guru
END:VEVENT
END:VCALENDAR