BEGIN:VCALENDAR
VERSION:2.0
METHOD:PUBLISH
PRODID:-//tages.guru//DE
BEGIN:VEVENT
CREATED:2026-04-19T18:01:09.6667875+02:00
LAST-MODIFIED:2026-04-19T18:01:09.6667919+02:00
DTSTAMP:2026-04-19T18:01:09.6667927+02:00
SUMMARY:Intersex Awareness Day
LOCATION:International
DTSTART;VALUE=DATE:20271026
DTEND;VALUE=DATE:20271027
URL:http://tages.guru/?name=Intersex-Awareness-Day&year=2027&page=%2FDays%2FCountDownByName
DESCRIPTION:http://tages.guru/?name=Intersex-Awareness-Day&year=2027&page=%2FDays%2FCountDownByName
TRANSP:TRANSPARENT
UID:Intersex-Awareness-Day@tages.guru
END:VEVENT
END:VCALENDAR