BEGIN:VCALENDAR
VERSION:2.0
METHOD:PUBLISH
PRODID:-//tages.guru//DE
BEGIN:VEVENT
CREATED:2026-04-20T07:16:37.6966453+02:00
LAST-MODIFIED:2026-04-20T07:16:37.6966495+02:00
DTSTAMP:2026-04-20T07:16:37.6966503+02:00
SUMMARY:Internationaler Tag gegen Homophobie
LOCATION:
DTSTART;VALUE=DATE:20350517
DTEND;VALUE=DATE:20350518
URL:http://tages.guru/?name=Internationaler-Tag-gegen-Homophobie&year=2035&page=%2FDays%2FCountDownByName
DESCRIPTION:http://tages.guru/?name=Internationaler-Tag-gegen-Homophobie&year=2035&page=%2FDays%2FCountDownByName
TRANSP:TRANSPARENT
UID:Internationaler-Tag-gegen-Homophobie@tages.guru
END:VEVENT
END:VCALENDAR