BEGIN:VCALENDAR
VERSION:2.0
METHOD:PUBLISH
PRODID:-//tages.guru//DE
BEGIN:VEVENT
CREATED:2026-04-24T08:17:28.2415778+02:00
LAST-MODIFIED:2026-04-24T08:17:28.2415813+02:00
DTSTAMP:2026-04-24T08:17:28.2415819+02:00
SUMMARY:Internationaler Tag gegen Homophobie
LOCATION:
DTSTART;VALUE=DATE:20300517
DTEND;VALUE=DATE:20300518
URL:http://tages.guru/?name=Internationaler-Tag-gegen-Homophobie&year=2030&page=%2FDays%2FCountDownByName
DESCRIPTION:http://tages.guru/?name=Internationaler-Tag-gegen-Homophobie&year=2030&page=%2FDays%2FCountDownByName
TRANSP:TRANSPARENT
UID:Internationaler-Tag-gegen-Homophobie@tages.guru
END:VEVENT
END:VCALENDAR