BEGIN:VCALENDAR
VERSION:2.0
METHOD:PUBLISH
PRODID:-//tages.guru//DE
BEGIN:VEVENT
CREATED:2026-04-25T20:40:17.0451911+02:00
LAST-MODIFIED:2026-04-25T20:40:17.0451953+02:00
DTSTAMP:2026-04-25T20:40:17.0451961+02:00
SUMMARY:Internationaler Tag gegen Homophobie
LOCATION:
DTSTART;VALUE=DATE:20260517
DTEND;VALUE=DATE:20260518
URL:http://tages.guru/?name=Internationaler-Tag-gegen-Homophobie&year=2026&page=%2FDays%2FCountDownByName
DESCRIPTION:http://tages.guru/?name=Internationaler-Tag-gegen-Homophobie&year=2026&page=%2FDays%2FCountDownByName
TRANSP:TRANSPARENT
UID:Internationaler-Tag-gegen-Homophobie@tages.guru
END:VEVENT
END:VCALENDAR