BEGIN:VCALENDAR
VERSION:2.0
METHOD:PUBLISH
PRODID:-//tages.guru//DE
BEGIN:VEVENT
CREATED:2026-04-26T00:39:22.6079915+02:00
LAST-MODIFIED:2026-04-26T00:39:22.6079944+02:00
DTSTAMP:2026-04-26T00:39:22.6079951+02:00
SUMMARY:Internationaler Tag des Waldes
LOCATION:
DTSTART;VALUE=DATE:20350321
DTEND;VALUE=DATE:20350322
URL:http://tages.guru/?name=Internationaler-Tag-des-Waldes&year=2035&page=%2FDays%2FCountDownByName
DESCRIPTION:http://tages.guru/?name=Internationaler-Tag-des-Waldes&year=2035&page=%2FDays%2FCountDownByName
TRANSP:TRANSPARENT
UID:Internationaler-Tag-des-Waldes@tages.guru
END:VEVENT
END:VCALENDAR