BEGIN:VCALENDAR
VERSION:2.0
METHOD:PUBLISH
PRODID:-//tages.guru//DE
BEGIN:VEVENT
CREATED:2026-04-25T18:51:58.8782309+02:00
LAST-MODIFIED:2026-04-25T18:51:58.8782348+02:00
DTSTAMP:2026-04-25T18:51:58.8782355+02:00
SUMMARY:Internationaler Tag des Lichts
LOCATION:
DTSTART;VALUE=DATE:20350516
DTEND;VALUE=DATE:20350517
URL:http://tages.guru/?name=Internationaler-Tag-des-Lichts&year=2035&page=%2FDays%2FCountDownByName
DESCRIPTION:http://tages.guru/?name=Internationaler-Tag-des-Lichts&year=2035&page=%2FDays%2FCountDownByName
TRANSP:TRANSPARENT
UID:Internationaler-Tag-des-Lichts@tages.guru
END:VEVENT
END:VCALENDAR