BEGIN:VCALENDAR
VERSION:2.0
METHOD:PUBLISH
PRODID:-//tages.guru//DE
BEGIN:VEVENT
CREATED:2026-04-26T03:01:16.3221394+02:00
LAST-MODIFIED:2026-04-26T03:01:16.3221443+02:00
DTSTAMP:2026-04-26T03:01:16.3221451+02:00
SUMMARY:Internationaler Tag des Lichts
LOCATION:
DTSTART;VALUE=DATE:20340516
DTEND;VALUE=DATE:20340517
URL:http://tages.guru/?name=Internationaler-Tag-des-Lichts&year=2034&page=%2FDays%2FCountDownByName
DESCRIPTION:http://tages.guru/?name=Internationaler-Tag-des-Lichts&year=2034&page=%2FDays%2FCountDownByName
TRANSP:TRANSPARENT
UID:Internationaler-Tag-des-Lichts@tages.guru
END:VEVENT
END:VCALENDAR