BEGIN:VCALENDAR
VERSION:2.0
METHOD:PUBLISH
PRODID:-//tages.guru//DE
BEGIN:VEVENT
CREATED:2026-04-24T20:36:17.8163070+02:00
LAST-MODIFIED:2026-04-24T20:36:17.8163107+02:00
DTSTAMP:2026-04-24T20:36:17.8163114+02:00
SUMMARY:Internationaler Tag des Lichts
LOCATION:
DTSTART;VALUE=DATE:20320516
DTEND;VALUE=DATE:20320517
URL:http://tages.guru/?name=Internationaler-Tag-des-Lichts&year=2032&page=%2FDays%2FCountDownByName
DESCRIPTION:http://tages.guru/?name=Internationaler-Tag-des-Lichts&year=2032&page=%2FDays%2FCountDownByName
TRANSP:TRANSPARENT
UID:Internationaler-Tag-des-Lichts@tages.guru
END:VEVENT
END:VCALENDAR