BEGIN:VCALENDAR
VERSION:2.0
METHOD:PUBLISH
PRODID:-//tages.guru//DE
BEGIN:VEVENT
CREATED:2026-04-23T19:17:28.1513272+02:00
LAST-MODIFIED:2026-04-23T19:17:28.1513308+02:00
DTSTAMP:2026-04-23T19:17:28.1513314+02:00
SUMMARY:Internationaler Tag des Jazz
LOCATION:International
DTSTART;VALUE=DATE:20300430
DTEND;VALUE=DATE:20300501
URL:http://tages.guru/?name=Internationaler-Tag-des-Jazz&year=2030&page=%2FDays%2FCountDownByName
DESCRIPTION:http://tages.guru/?name=Internationaler-Tag-des-Jazz&year=2030&page=%2FDays%2FCountDownByName
TRANSP:TRANSPARENT
UID:Internationaler-Tag-des-Jazz@tages.guru
END:VEVENT
END:VCALENDAR