BEGIN:VCALENDAR
VERSION:2.0
METHOD:PUBLISH
PRODID:-//tages.guru//DE
BEGIN:VEVENT
CREATED:2026-04-20T00:06:36.9389123+02:00
LAST-MODIFIED:2026-04-20T00:06:36.9389157+02:00
DTSTAMP:2026-04-20T00:06:36.9389164+02:00
SUMMARY:Internationaler Tag des Cocktails
LOCATION:
DTSTART;VALUE=DATE:20340513
DTEND;VALUE=DATE:20340514
URL:http://tages.guru/?name=Internationaler-Tag-des-Cocktails&year=2034&page=%2FDays%2FCountDownByName
DESCRIPTION:http://tages.guru/?name=Internationaler-Tag-des-Cocktails&year=2034&page=%2FDays%2FCountDownByName
TRANSP:TRANSPARENT
UID:Internationaler-Tag-des-Cocktails@tages.guru
END:VEVENT
END:VCALENDAR